BEGIN:VCALENDAR
VERSION:2.0
PRODID:-//Le Bar commun - ECPv6.2.2//NONSGML v1.0//EN
CALSCALE:GREGORIAN
METHOD:PUBLISH
X-WR-CALNAME:Le Bar commun
X-ORIGINAL-URL:https://www.lebarcommun.fr
X-WR-CALDESC:évènements pour Le Bar commun
REFRESH-INTERVAL;VALUE=DURATION:PT1H
X-Robots-Tag:noindex
X-PUBLISHED-TTL:PT1H
BEGIN:VTIMEZONE
TZID:Europe/Paris
BEGIN:DAYLIGHT
TZOFFSETFROM:+0100
TZOFFSETTO:+0200
TZNAME:CEST
DTSTART:20260329T010000
END:DAYLIGHT
BEGIN:STANDARD
TZOFFSETFROM:+0200
TZOFFSETTO:+0100
TZNAME:CET
DTSTART:20261025T010000
END:STANDARD
END:VTIMEZONE
BEGIN:VEVENT
DTSTART;TZID=Europe/Paris:20260306T200000
DTEND;TZID=Europe/Paris:20260306T220000
DTSTAMP:20260420T105821
CREATED:20260208T163635Z
LAST-MODIFIED:20260208T163636Z
UID:6129-1772827200-1772834400@www.lebarcommun.fr
SUMMARY:Concert Blues/Rock au Bar Commun
DESCRIPTION:Deux groupes vont se succéder :– Deep blues qui jouera des standards du blues avec passion et énergie\, ainsi que des morceaux plus contemporains.– Poptown qui revisitera avec enthousiasme le répertoire des icônes du Rock et nous replongera dans les meilleures années de la Pop musique. \n\n\n\nLe groupe Deep Blues\, c’est la rencontre de cinq musiciens passionnés qui font vibrer un blues authentique\, profond et généreux : Fabrice à la batterie\, Arnaud à la basse\, Michel à la guitare\, Philippe à l’harmonica et Jehiel au chant. Avec une énergie communicative et une complicité évidente\, Deep Blues entraîne le public dans un concert qui ne laisse jamais indifférent. \n\n\n\nLe groupe Poptown : Élevés depuis leur jeunesse\, chacun de leur côté\, aux accords des vinyles de Creedence\, Doors\, Stones\, Clapton et Lynyrd\, … 5 fervents pratiquants de Blues-Rock\, Michel et Vincent aux guitares\, Gérard à la batterie et Gilles à la basse\, se sont trouvés\, il y a 2 ans\, sous l’impulsion de leur charismatique chanteur Jehiel pour former POPTOWN. Avec enthousiasme et modestie\, ces passionnés chevronnés vous entraînent pour une visite guidée dans les avenues et les ruelles de leur discothèque.
URL:https://www.lebarcommun.fr/evenement/concert-blues-rock-au-bar-commun/
END:VEVENT
END:VCALENDAR